BEGIN:VCALENDAR
VERSION:2.0
PRODID:-//Christliche Pfadfinder Stadtoldendorf - ECPv6.15.15//NONSGML v1.0//EN
CALSCALE:GREGORIAN
METHOD:PUBLISH
X-ORIGINAL-URL:https://pfadfinder-stadtoldendorf.de
X-WR-CALDESC:Veranstaltungen für Christliche Pfadfinder Stadtoldendorf
REFRESH-INTERVAL;VALUE=DURATION:PT1H
X-Robots-Tag:noindex
X-PUBLISHED-TTL:PT1H
BEGIN:VTIMEZONE
TZID:Europe/Helsinki
BEGIN:DAYLIGHT
TZOFFSETFROM:+0200
TZOFFSETTO:+0300
TZNAME:EEST
DTSTART:20240331T010000
END:DAYLIGHT
BEGIN:STANDARD
TZOFFSETFROM:+0300
TZOFFSETTO:+0200
TZNAME:EET
DTSTART:20241027T010000
END:STANDARD
BEGIN:DAYLIGHT
TZOFFSETFROM:+0200
TZOFFSETTO:+0300
TZNAME:EEST
DTSTART:20250330T010000
END:DAYLIGHT
BEGIN:STANDARD
TZOFFSETFROM:+0300
TZOFFSETTO:+0200
TZNAME:EET
DTSTART:20251026T010000
END:STANDARD
BEGIN:DAYLIGHT
TZOFFSETFROM:+0200
TZOFFSETTO:+0300
TZNAME:EEST
DTSTART:20260329T010000
END:DAYLIGHT
BEGIN:STANDARD
TZOFFSETFROM:+0300
TZOFFSETTO:+0200
TZNAME:EET
DTSTART:20261025T010000
END:STANDARD
END:VTIMEZONE
BEGIN:VEVENT
DTSTART;TZID=Europe/Helsinki:20251220T170000
DTEND;TZID=Europe/Helsinki:20251220T183000
DTSTAMP:20260420T132424
CREATED:20250119T175040Z
LAST-MODIFIED:20250119T175040Z
UID:2284-1766250000-1766255400@pfadfinder-stadtoldendorf.de
SUMMARY:Friedenslicht-Gottesdienst
DESCRIPTION:In diesem Gottesdienst möchten wir wieder das Friedenslicht aus Betlehem in die Stadt entsenden.
URL:https://pfadfinder-stadtoldendorf.de/event/friedenslicht-gottesdienst-2/
LOCATION:Kirche St.Dionys
CATEGORIES:Alle Stammesmitglieder inklusive Familien,Wölflinge
END:VEVENT
BEGIN:VEVENT
DTSTART;TZID=Europe/Helsinki:20251223T190000
DTEND;TZID=Europe/Helsinki:20251223T210000
DTSTAMP:20260420T132424
CREATED:20250119T175312Z
LAST-MODIFIED:20250119T175312Z
UID:2286-1766516400-1766523600@pfadfinder-stadtoldendorf.de
SUMMARY:Waldweihnacht
DESCRIPTION:Wir möchten mit Euch unsere traditionelle Waldweihnacht feiern. Dazu werden wir zunächst an einen Tannenbaum im Wald gehen und dort eine kleine Andacht feiern. Anschließend gibt es einen bebilderten Jahresrückblick\, Punsch und Kekse im Pfarrhaus. das Event solltest Du Dir nicht entgehen lassen!
URL:https://pfadfinder-stadtoldendorf.de/event/waldweihnacht/
LOCATION:Pfarrhaus
CATEGORIES:Alle Stammesmitglieder inklusive Familien,Ehemalige,Freundeskreis,Wölflinge
END:VEVENT
END:VCALENDAR